BEGIN:VCALENDAR
VERSION:2.0
PRODID:-//Sud Chimie - ECPv6.15.12.2//NONSGML v1.0//EN
CALSCALE:GREGORIAN
METHOD:PUBLISH
X-WR-CALNAME:Sud Chimie
X-ORIGINAL-URL:https://sud-chimie-solidaires.org
X-WR-CALDESC:Évènements pour Sud Chimie
REFRESH-INTERVAL;VALUE=DURATION:PT1H
X-Robots-Tag:noindex
X-PUBLISHED-TTL:PT1H
BEGIN:VTIMEZONE
TZID:Europe/Paris
BEGIN:DAYLIGHT
TZOFFSETFROM:+0100
TZOFFSETTO:+0200
TZNAME:CEST
DTSTART:20220327T010000
END:DAYLIGHT
BEGIN:STANDARD
TZOFFSETFROM:+0200
TZOFFSETTO:+0100
TZNAME:CET
DTSTART:20221030T010000
END:STANDARD
BEGIN:DAYLIGHT
TZOFFSETFROM:+0100
TZOFFSETTO:+0200
TZNAME:CEST
DTSTART:20230326T010000
END:DAYLIGHT
BEGIN:STANDARD
TZOFFSETFROM:+0200
TZOFFSETTO:+0100
TZNAME:CET
DTSTART:20231029T010000
END:STANDARD
BEGIN:DAYLIGHT
TZOFFSETFROM:+0100
TZOFFSETTO:+0200
TZNAME:CEST
DTSTART:20240331T010000
END:DAYLIGHT
BEGIN:STANDARD
TZOFFSETFROM:+0200
TZOFFSETTO:+0100
TZNAME:CET
DTSTART:20241027T010000
END:STANDARD
BEGIN:DAYLIGHT
TZOFFSETFROM:+0100
TZOFFSETTO:+0200
TZNAME:CEST
DTSTART:20250330T010000
END:DAYLIGHT
BEGIN:STANDARD
TZOFFSETFROM:+0200
TZOFFSETTO:+0100
TZNAME:CET
DTSTART:20251026T010000
END:STANDARD
END:VTIMEZONE
BEGIN:VEVENT
DTSTART;VALUE=DATE:20240308
DTEND;VALUE=DATE:20240309
DTSTAMP:20260422T133026
CREATED:20240220T202020Z
LAST-MODIFIED:20240220T202020Z
UID:3563-1709856000-1709942399@sud-chimie-solidaires.org
SUMMARY:Journée internationale des droits des femmes
DESCRIPTION:Le 8 mars\, c’est la grève féministe !
URL:https://sud-chimie-solidaires.org/event/journee-internationale-des-droits-des-femmes/
CATEGORIES:Évènement Solidaires National,Évènement Sud Chimie,Mobilisation
END:VEVENT
BEGIN:VEVENT
DTSTART;VALUE=DATE:20240119
DTEND;VALUE=DATE:20240130
DTSTAMP:20260422T133026
CREATED:20240118T154835Z
LAST-MODIFIED:20240118T154926Z
UID:3520-1705622400-1706572799@sud-chimie-solidaires.org
SUMMARY:Dépôt des ammendements sur les pré-projets en vu du 9ème Congrès Solidaires
DESCRIPTION:Resolution_1_copie_2ByKE9r Resolution_2_copie_AfvsiyO Resolution_3_copie_yJ0PUfI
URL:https://sud-chimie-solidaires.org/event/depot-des-ammendements-sur-les-pre-projets-en-vu-du-9eme-congres-solidaires/
LOCATION:Paris\, France
ORGANIZER;CN="Union Syndicale Solidaires":MAILTO:contact@solidaires.org
END:VEVENT
BEGIN:VEVENT
DTSTART;VALUE=DATE:20240117
DTEND;VALUE=DATE:20240119
DTSTAMP:20260422T133026
CREATED:20240103T160332Z
LAST-MODIFIED:20240103T160332Z
UID:3513-1705449600-1705622399@sud-chimie-solidaires.org
SUMMARY:Comité National Solidaires 17/18 Janvier 2024
DESCRIPTION:Date : du 17/01/2024 au 18/01/2024\nAdresse : 31 rue de la grange aux belles à 75000 Paris\nContact : contact@solidaires.org
URL:https://sud-chimie-solidaires.org/event/comite-national-solidaires-17-18-janvier-2024/
CATEGORIES:Évènement Solidaires National
ORGANIZER;CN="Union Syndicale Solidaires":MAILTO:contact@solidaires.org
END:VEVENT
BEGIN:VEVENT
DTSTART;TZID=Europe/Paris:20231228T140000
DTEND;TZID=Europe/Paris:20231228T170000
DTSTAMP:20260422T133026
CREATED:20231229T093437Z
LAST-MODIFIED:20231229T093437Z
UID:3446-1703772000-1703782800@sud-chimie-solidaires.org
SUMMARY:Conseil syndicale Sud Chimie
DESCRIPTION:Ci-dessous le lien pour le CS du 28/12/23 à 14h\nSud Chimie vous invite à une réunion Zoom planifiée. \nSujet: Zoom meeting invitation – Réunion Zoom de Sud Chimie CS validation compte\nHeure: 28 déc. 2023 02:00 PM Paris \nRejoindre Zoom Réunion\nhttps://us06web.zoom.us/j/86941610461?pwd=z10AtdG5bbnBRbW6iTmx50Ii7P0shc.1
URL:https://sud-chimie-solidaires.org/event/conseil-syndicale-sud-chimie/
LOCATION:Visioconférence
CATEGORIES:Réunion
END:VEVENT
BEGIN:VEVENT
DTSTART;VALUE=DATE:20231013
DTEND;VALUE=DATE:20231014
DTSTAMP:20260422T133026
CREATED:20230911T122556Z
LAST-MODIFIED:20230911T122651Z
UID:3147-1697155200-1697241599@sud-chimie-solidaires.org
SUMMARY:Communiqué intersyndical Mobilisation du 13 octobre
DESCRIPTION:COMMUNIQUÉ INTERSYNDICAL. LE 13 OCTOBRE\, EN FRANCE ET EN EUROPE\, MOBILISONS-NOUS CONTRE L’AUSTÉRITÉ\, POUR LES SALAIRES ET L’ÉGALITÉ FEMMES-HOMMES !\n  \nEn cette rentrée sociale\, le pouvoir d achat et l’augmentation des salaires\, des pensions et des minimas sociaux sont toujours les revendications prioritaires pour le monde du travail. La colère contre la réforme des retraites est intacte et des milliers de travailleurs seront pénalisés par son application à marche forcée le 1er septembre. \nAlors que les profits explosent dans la plupart des grandes entreprises\, plus que jamais un meilleur partage de la richesse produite est impératif. Des mesures ponctuelles et majoritairement financées par l’État sont insuffisantes pour répondre à l’inflation et l’augmentation des coûts tels que l’énergie\, l’alimentation\, le logement… Nos organisations réaffirment ensemble que ce sujet nécessite une augmentation du SMIC et des politiques salariales dans les branches\, les entreprises et la Fonction publique. Nous appelons les employeurs à ouvrir des négociations à tous les niveaux. Cette meilleure répartition des richesses au profit des salariés constitue également un levier puissant d’action pour la lutte contre les inégalités\, notamment entre les femmes et les hommes. \nCette année encore\, l’été a mis en lumière les conséquences dramatiques du changement climatique et la nécessité d’ engager une transition écologique socialement juste. Nous sommes toutes et tous concernés. Les impacts de cette transition écologique juste sont multiples et concernent à la fois les activités\, les conditions de travail\, les métiers\, les emplois\, les qualifications et les compétences. Pour répondre à ce défi majeur\, il faut dès aujourd’hui apporter des solutions immédiates\, anticiper les impacts et préparer les investissements nécessaires\, sécuriser l’emploi des travailleuses et travailleurs et les associer aux choix qui les concernent. Au lieu de cela la fragilisation de l’industrie continue sous la pression des actionnaires. \nLe PLF et le PLFSS en cours de préparation doivent être à la hauteur des enjeux de la période et de demain. Pour nos organisations ces projets doivent être porteurs de justice sociale. Dans ce cadre\, la conditionnalité des 150 à 200 milliards annuels d’aides aux entreprises doit être débattue. Le PLF et le PLFSS doivent renforcer nos services publics\, à commencer par l’hôpital\, l’école\, l’enseignement supérieur et la recherche… \nLes négociations nationales qui vont se tenir\, notamment en matière de retraites complémentaires et d’assurance chômage\, dans les mois à venir seront capitales pour créer et renforcer les droits sociaux des travailleurs. Nos organisations réaffirment la nécessité de répondre aux aspirations démocratiques des travailleurs pour une meilleure représentation collective en revenant sur les ordonnances travail et la loi de transformation de la fonction publique. \nL’ensemble de ces sujets sont partagés à l’échelle européenne. Nos organisations\, avec le mouvement syndical européen\, sont mobilisées pour la solidarité\, la transition écologique juste et contre les politiques d’austérité. Nos organisations appellent à une journée de mobilisations et de manifestation le vendredi 13 octobre 2023 contre l’austérité et pour l’augmentation des salaires\, des pensions et l’égalité femme-homme. \nNos organisations se réuniront de nouveau au mois de septembre pour la préparation de cette journée. \nParis\, le 28 août 2023
URL:https://sud-chimie-solidaires.org/event/communique-intersyndical-mobilisation-du-13-octobre/
CATEGORIES:Mobilisation
END:VEVENT
BEGIN:VEVENT
DTSTART;VALUE=DATE:20230923
DTEND;VALUE=DATE:20230924
DTSTAMP:20260422T133026
CREATED:20230907T141116Z
LAST-MODIFIED:20230907T145856Z
UID:3128-1695427200-1695513599@sud-chimie-solidaires.org
SUMMARY:MARCHE UNITAIRE " POUR LA FIN DU RACISME SYSTÉMIQUE\, DES VIOLENCES POLICIÈRES\, POUR LA JUSTICE SOCIALE ET LES LIBERTÉS PUBLIQUES"
DESCRIPTION:  \nLe meurtre de Nahel\, tué par un policier à bout portant le 27 juin 2023 à Nanterre\, a mis de nouveau la lumière sur ce qui doit cesser : le racisme systémique\, les violences policières\, et les inégalités sociales que creuse la politique de Macron. Une politique néolibérale imposée par des méthodes autoritaires\, des lois sécuritaires et une doctrine du maintien de l’ordre décriée jusque dans les plus grandes instances internationales. Une politique régressive qui fait le lit de l’extrême-droite et piétine toujours plus nos libertés publiques\, notre modèle social\, notre avenir face à l’effondrement écologique. \nEn première ligne des victimes de ces choix politiques\, les habitant·es\, et notamment les jeunes des quartiers populaires et des territoires ultramarins\, qui subissent de plein fouet l’aggravation de toutes les inégalités sociales dans un contexte économique d’inflation\, de hausse des loyers\, des prix de l’énergie et de politiques d’urbanisme brutales. Les réformes de la Macronie accentuent la pauvreté en durcissant notamment l’accès aux prestations sociales. La scandaleuse réforme de l’assurance chômage en est un exemple significatif alors que la précarité au travail augmente. \nLes révoltes dans les quartiers populaires ne peuvent s’analyser que dans ce contexte global. Les habitant·es de ces quartiers\, et notamment les mères isolées\, pallient bien souvent seul·es les carences de services publics dont la destruction s’accélère de jour en jour. \nA côté de cela\, de nombreuses violences sont perpétrées contre les populations : délocalisation et destruction de l’emploi\, évasion et fraude fiscale\, mode de vie des ultras riches écocidaire\, supers profits des multinationales\, modes de production hypers polluants responsables de la crise climatique. Et pour cela\, l’Etat laisse faire ! De plus\, les populations racisées et/ ou issues des classes sociales défavorisées\, des quartiers populaires\, des zones rurales et périurbaines appauvries\, des territoires ultramarins sont victimes de violences institutionnelles et systémiques\, notamment policières. \nLa politique répressive de l’Etat est encore renforcée par le dernier remaniement ministériel\, qui a élargi les compétences du ministère de l’Intérieur à la ville\, l’Outre-mer et la citoyenneté. La répression s’étend avec toujours plus d’intensité et de violences policières\, d’interdictions de manifester\, contre le mouvement social et écologiste\, comme lors de la lutte contre la réforme des retraites rejetée par l’immense majorité des travailleur-ses et leurs syndicats et à Sainte-Soline. La liberté associative\, directement et indirectement\, est de plus en plus mise en cause. \nCette situation est d’autant plus inquiétante que l’institution policière paraît hors de contrôle du pouvoir politique. Des déclarations factieuses de certains syndicats de policiers suite au meurtre de Nahel aux déclarations du Directeur général de la police nationale et à celle du Préfet de police de Paris ainsi que le ministre de l’intérieur\, c’est l’institution policière qui aujourd’hui remet en cause l’État de droit\, plutôt que de mettre fin à l’impunité des auteurs de violences policières. \nNos organisations syndicales\, associations\, collectifs\, comités de quartiers populaires\, de victimes de violences policières et partis politiques se mobilisent ensemble dans la durée pour la convergence des justices antiraciste\, sociale et écologique\, féministes et pour que cessent les politiques sécuritaires et anti sociales. \nLa crise démocratique\, sociale\, politique que nous traversons est très grave. \nNous ne pouvons accepter qu’il y ait encore d’autres morts comme Nahel\, ou d’autres blessé.es\, victimes des violences policières. \nNous appelons à reprendre la rue samedi 23 septembre\, à organiser des manifestations ou d’autres initiatives sur tout le territoire\, pour faire front ensemble contre la répression des contestations sociales démocratiques et écologiques\, pour la fin du racisme systémique\, des violences policières\, et pour la justice sociale climatique\, féministe et les libertés publiques.\nNous exigeons des réponses immédiates et dans l’urgence :\n– abrogation de la loi de 2017 sur l’assouplissement des règles en matière d’usage des armes à feu par les forces de l’ordre ; \n– une réforme en profondeur de la police\, de ses techniques d’intervention et de son armement \n– le remplacement de l’IGPN par un organisme indépendant de la hiérarchie policière et du pouvoir politique ; \n– la création d’un service dédié aux discriminations touchant la jeunesse au sein de l’autorité administrative présidée par le Défenseur des droits et le renforcement des moyens de lutte contre le racisme\, y compris dans la police ; \n– Un plan d’investissement public ambitieux dans les quartiers populaires et sur l’ensemble du territoire pour rétablir les services publics\, le financement des associations et des centres sociaux \nMarchons toutes et tous ensemble le 23 septembre !\nOrganisations signataires au 5 septembre : \nCollectifs/comités de quartiers populaires\, de victimes de violences policières : \nCoordination pour la Défense des habitants des Quartiers Populaires\, Coordination nationale contre les violences policières\, Coordination nationale “Marche 40 ans”\, Collectif Vérité et justice pour Adama\, Collectif Justice pour Claude Jean-Pierre\, Comité Vérité et Justice pour Mahamadou\, Comité Justice pour Othmane\, Collectif Justice et Vérité pour Yanis\, Comité Justice pour Alassane\, Collectif Stop Violences Policières à Saint-Denis\, Comité vérité et justice pour Safyatou\, Salif et Ilan\, Mémoire en marche Marseille\, le Mouvement des mères isolées\, Syndicat des quartiers populaires de Marseille. \nOrganisations syndicales : CGT\, FSU\, Union syndicale Solidaires\, Syndicat des avocats de France\, Syndicat de la magistrature\, FSE\, FIDL\, MNL\, UNEF\, Union étudiante\, la Voix lycéenne. \nAssociations et autres collectifs : l’ACORT\, Alternatiba\, ANV-COP21\, APEL-Egalité\, ATMF\, Attac France\, Les Amis de la Terre France\, Collectif du 5 novembre\, Collectif National pour les Droits des Femmes (CNDF)\, CAD\, Coudes à Coudes\, Dernière Rénovation\, Droit Au Logement (DAL)\, Les Effrontées\, FASTI \, Fédération nationale de la LIbre Pensée\, Femmes Egalité\, Fondation Copernic\, Gisti\, Greenpeace\, Mouvement Utopia\, la Relève Féministe\, La Révolution est en marche\, Marche des Solidarités\, MRAP\, Memorial 98\, Planning familial\, Réseau d’Actions contre l’Antisémitisme et tous les Racismes (RAAR)\,SOS racisme\, Association Stop Aux Violences d’État\, UJFP\, XR Extinction Rebellion France\, Alternatiba Paris\, Association de veille écologique et citoyenne (Nantes)\, Association Intergénérationelle de la Rabière (AIR-37)\, Association Naya (37)\, Association Nouveaux Souffle pour l’Insertion Sociale et Professionnelle (ANSIP-37)\, ODED 32\, les Marmoulins de Ménil\, Pas peu fièr-es\, Le GRAIN\, Réseau Hospitalité \nOrganisations politiques : EELV \, ENSEMBLE \, LFI \, FUIQP\, GDS\, La Gauche Ecosocialiste\, Génération.s\, NPA\, Nouvelle Donne\, PCOF\, PEPS\, PG\, Place publique\, POI\, Rejoignons nous\, REV\, UCL\, Vivre Ensemble Solidaires en Métropole Tourangelle (VESEMT-37) \n 
URL:https://sud-chimie-solidaires.org/event/marche-unitaire-pour-la-fin-du-racisme-systemique-des-violences-policieres-pour-la-justice-sociale-et-les-libertes-publiques/
CATEGORIES:Mobilisation
END:VEVENT
END:VCALENDAR